BEGIN:VCALENDAR
VERSION:2.0
PRODID:-//dieLiga//DE
BEGIN:VEVENT
UID:event0
DTSTAMP:20260424T101646Z
DTSTART:20250925T180000Z
DTEND:20250925T200000Z
LOCATION;LANGUAGE=de;ENCODING=QUOTED-PRINTABLE:Dorfstraße  19\, Busdorf
SUMMARY:Punktspiel TuS Busdorf vs International Volleys
DESCRIPTION;LANGUAGE=de;ENCODING=QUOTED-PRINTABLE:25:21\, 14:25\, 23:25
END:VEVENT
BEGIN:VEVENT
UID:event1
DTSTAMP:20260424T101646Z
DTSTART:20251006T180000Z
DTEND:20251006T200000Z
LOCATION;LANGUAGE=de;ENCODING=QUOTED-PRINTABLE:Hüholz\, Kappeln
SUMMARY:Punktspiel TSV Kappeln 1 vs TuS Busdorf
DESCRIPTION;LANGUAGE=de;ENCODING=QUOTED-PRINTABLE:12:25\, 14:25\, 16:25
END:VEVENT
BEGIN:VEVENT
UID:event2
DTSTAMP:20260424T101646Z
DTSTART:20251113T190000Z
DTEND:20251113T210000Z
LOCATION;LANGUAGE=de;ENCODING=QUOTED-PRINTABLE:Dorfstraße  19\, Busdorf
SUMMARY:Punktspiel TuS Busdorf vs TV Grundhof
DESCRIPTION;LANGUAGE=de;ENCODING=QUOTED-PRINTABLE:25:11\, 25:20\, 25:17
END:VEVENT
BEGIN:VEVENT
UID:event3
DTSTAMP:20260424T101646Z
DTSTART:20251120T190000Z
DTEND:20251120T210000Z
LOCATION;LANGUAGE=de;ENCODING=QUOTED-PRINTABLE:Stapelholmerweg   39\, Oeversee
SUMMARY:Punktspiel TSV Oeversee 1 vs TuS Busdorf
DESCRIPTION;LANGUAGE=de;ENCODING=QUOTED-PRINTABLE:21:25\, 16:25\, 7:25
END:VEVENT
BEGIN:VEVENT
UID:event4
DTSTAMP:20260424T101646Z
DTSTART:20260122T190000Z
DTEND:20260122T210000Z
LOCATION;LANGUAGE=de;ENCODING=QUOTED-PRINTABLE:Dorfstraße  19\, Busdorf
SUMMARY:Punktspiel TuS Busdorf vs PSV Flensburg 2
DESCRIPTION;LANGUAGE=de;ENCODING=QUOTED-PRINTABLE:25:12\, 23:25\, 23:25
END:VEVENT
BEGIN:VEVENT
UID:event5
DTSTAMP:20260424T101646Z
DTSTART:20260220T183000Z
DTEND:20260220T203000Z
LOCATION;LANGUAGE=de;ENCODING=QUOTED-PRINTABLE:Bohlberg  56\, Flensburg
SUMMARY:Punktspiel International Volleys vs TuS Busdorf
DESCRIPTION;LANGUAGE=de;ENCODING=QUOTED-PRINTABLE:25:18\, 25:21\, 17:25
END:VEVENT
BEGIN:VEVENT
UID:event6
DTSTAMP:20260424T101646Z
DTSTART:20260305T190000Z
DTEND:20260305T210000Z
LOCATION;LANGUAGE=de;ENCODING=QUOTED-PRINTABLE:Dorfstraße  19\, Busdorf
SUMMARY:Punktspiel TuS Busdorf vs TSV Kappeln 1
DESCRIPTION;LANGUAGE=de;ENCODING=QUOTED-PRINTABLE:25:14\, 25:12\, 25:16
END:VEVENT
BEGIN:VEVENT
UID:event7
DTSTAMP:20260424T101646Z
DTSTART:20260319T183000Z
DTEND:20260319T213000Z
LOCATION;LANGUAGE=de;ENCODING=QUOTED-PRINTABLE:An der Nordstr. 4\, Dollerup
SUMMARY:Punktspiel TV Grundhof vs TuS Busdorf
DESCRIPTION;LANGUAGE=de;ENCODING=QUOTED-PRINTABLE:18:25\, 25:21\, 30:32
END:VEVENT
BEGIN:VEVENT
UID:event8
DTSTAMP:20260424T101646Z
DTSTART:20260423T180000Z
DTEND:20260423T200000Z
LOCATION;LANGUAGE=de;ENCODING=QUOTED-PRINTABLE:Dorfstraße  19\, Busdorf
SUMMARY:Punktspiel TuS Busdorf vs TSV Oeversee 1
DESCRIPTION;LANGUAGE=de;ENCODING=QUOTED-PRINTABLE:25:10\, 25:20\, 24:26
END:VEVENT
BEGIN:VEVENT
UID:event9
DTSTAMP:20260424T101646Z
DTSTART:20260506T160000Z
DTEND:20260506T180000Z
LOCATION;LANGUAGE=de;ENCODING=QUOTED-PRINTABLE:Südergraben 34\, Flensburg
SUMMARY:Punktspiel PSV Flensburg 2 vs TuS Busdorf
DESCRIPTION;LANGUAGE=de;ENCODING=QUOTED-PRINTABLE:Auguste-Viktoria-Schule (Parkplatz erreichbar über Str. Kanonenberg)\nSüdergraben 34\n24937 Flensburg\n\n\nÜbersicht https://www.ktvnord.volleyball-freizeit.de/schedule/overview/1092
END:VEVENT
END:VCALENDAR