BEGIN:VCALENDAR
VERSION:2.0
PRODID:-//dieLiga//DE
BEGIN:VEVENT
UID:event0
DTSTAMP:20260423T154835Z
DTSTART:20250923T180000Z
DTEND:20250923T200000Z
LOCATION;LANGUAGE=de;ENCODING=QUOTED-PRINTABLE:Holmberg  20\, Harrislee 
SUMMARY:Punktspiel TSV Nord Harrislee vs TSV Süderbrarup
DESCRIPTION;LANGUAGE=de;ENCODING=QUOTED-PRINTABLE:21:25\, 18:25\, 17:25
END:VEVENT
BEGIN:VEVENT
UID:event1
DTSTAMP:20260423T154835Z
DTSTART:20251006T173000Z
DTEND:20251006T190000Z
LOCATION;LANGUAGE=de;ENCODING=QUOTED-PRINTABLE:Kappelner Straße 47b\, Süderbrarup 
SUMMARY:Punktspiel TSV Süderbrarup vs PSV Flensburg 3
DESCRIPTION;LANGUAGE=de;ENCODING=QUOTED-PRINTABLE:25:16\, 25:21\, 25:16
END:VEVENT
BEGIN:VEVENT
UID:event2
DTSTAMP:20260423T154835Z
DTSTART:20251110T190000Z
DTEND:20251110T210000Z
LOCATION;LANGUAGE=de;ENCODING=QUOTED-PRINTABLE:Schleswiger Str. 16-18\, Mittelangeln - Satrup
SUMMARY:Punktspiel TSV Satrup 1 vs TSV Süderbrarup
DESCRIPTION;LANGUAGE=de;ENCODING=QUOTED-PRINTABLE:25:23\, 24:26\, 19:25
END:VEVENT
BEGIN:VEVENT
UID:event3
DTSTAMP:20260423T154835Z
DTSTART:20251117T183000Z
DTEND:20251117T200000Z
LOCATION;LANGUAGE=de;ENCODING=QUOTED-PRINTABLE:Kappelner Straße 47b\, Süderbrarup 
SUMMARY:Punktspiel TSV Süderbrarup vs TSB Flensburg
DESCRIPTION;LANGUAGE=de;ENCODING=QUOTED-PRINTABLE:25:21\, 25:16\, 25:15
END:VEVENT
BEGIN:VEVENT
UID:event4
DTSTAMP:20260423T154835Z
DTSTART:20260119T183000Z
DTEND:20260119T200000Z
LOCATION;LANGUAGE=de;ENCODING=QUOTED-PRINTABLE:Kappelner Straße 47b\, Süderbrarup 
SUMMARY:Punktspiel TSV Süderbrarup vs PSV Flensburg 1
DESCRIPTION;LANGUAGE=de;ENCODING=QUOTED-PRINTABLE:25:20\, 20:25\, 25:23
END:VEVENT
BEGIN:VEVENT
UID:event5
DTSTAMP:20260423T154835Z
DTSTART:20260216T183000Z
DTEND:20260216T200000Z
LOCATION;LANGUAGE=de;ENCODING=QUOTED-PRINTABLE:Kappelner Straße 47b\, Süderbrarup 
SUMMARY:Punktspiel TSV Süderbrarup vs TSV Nord Harrislee
DESCRIPTION;LANGUAGE=de;ENCODING=QUOTED-PRINTABLE:25:21\, 25:23\, 25:11
END:VEVENT
BEGIN:VEVENT
UID:event6
DTSTAMP:20260423T154835Z
DTSTART:20260303T190000Z
DTEND:20260303T210000Z
LOCATION;LANGUAGE=de;ENCODING=QUOTED-PRINTABLE:Lütke-Namens-Weg\, Flensburg
SUMMARY:Punktspiel PSV Flensburg 3 vs TSV Süderbrarup
DESCRIPTION;LANGUAGE=de;ENCODING=QUOTED-PRINTABLE:15:25\, 16:25\, 19:25
END:VEVENT
BEGIN:VEVENT
UID:event7
DTSTAMP:20260423T154835Z
DTSTART:20260316T183000Z
DTEND:20260316T200000Z
LOCATION;LANGUAGE=de;ENCODING=QUOTED-PRINTABLE:Kappelner Straße 47b\, Süderbrarup 
SUMMARY:Punktspiel TSV Süderbrarup vs TSV Satrup 1
DESCRIPTION;LANGUAGE=de;ENCODING=QUOTED-PRINTABLE:22:25\, 20:25\, 21:25
END:VEVENT
BEGIN:VEVENT
UID:event8
DTSTAMP:20260423T154835Z
DTSTART:20260420T180000Z
DTEND:20260420T200000Z
LOCATION;LANGUAGE=de;ENCODING=QUOTED-PRINTABLE:Bohlberg \, Flensburg
SUMMARY:Punktspiel TSB Flensburg vs TSV Süderbrarup
DESCRIPTION;LANGUAGE=de;ENCODING=QUOTED-PRINTABLE:17:25\, 26:28\, 13:25
END:VEVENT
BEGIN:VEVENT
UID:event9
DTSTAMP:20260423T154835Z
DTSTART:20260505T180000Z
DTEND:20260505T200000Z
LOCATION;LANGUAGE=de;ENCODING=QUOTED-PRINTABLE:Lütke-Namens-Weg\, Flensburg
SUMMARY:Punktspiel PSV Flensburg 1 vs TSV Süderbrarup
DESCRIPTION;LANGUAGE=de;ENCODING=QUOTED-PRINTABLE:Altes Gymnasium\nLütke-Namens-Weg\n24937 Flensburg\n\n\nÜbersicht https://www.ktvnord.volleyball-freizeit.de/schedule/overview/1091
END:VEVENT
END:VCALENDAR