BEGIN:VCALENDAR
VERSION:2.0
PRODID:-//dieLiga//DE
BEGIN:VEVENT
UID:event0
DTSTAMP:20260424T100254Z
DTSTART:20251006T173000Z
DTEND:20251006T190000Z
LOCATION;LANGUAGE=de;ENCODING=QUOTED-PRINTABLE:Kappelner Straße 47b\, Süderbrarup 
SUMMARY:Punktspiel TSV Süderbrarup vs PSV Flensburg 3
DESCRIPTION;LANGUAGE=de;ENCODING=QUOTED-PRINTABLE:25:16\, 25:21\, 25:16
END:VEVENT
BEGIN:VEVENT
UID:event1
DTSTAMP:20260424T100254Z
DTSTART:20251111T190000Z
DTEND:20251111T210000Z
LOCATION;LANGUAGE=de;ENCODING=QUOTED-PRINTABLE:Lütke-Namens-Weg\, Flensburg
SUMMARY:Punktspiel PSV Flensburg 3 vs TSV Nord Harrislee
DESCRIPTION;LANGUAGE=de;ENCODING=QUOTED-PRINTABLE:25:17\, 25:15\, 18:25
END:VEVENT
BEGIN:VEVENT
UID:event2
DTSTAMP:20260424T100254Z
DTSTART:20251118T190000Z
DTEND:20251118T210000Z
LOCATION;LANGUAGE=de;ENCODING=QUOTED-PRINTABLE:Lütke-Namens-Weg\, Flensburg
SUMMARY:Punktspiel PSV Flensburg 1 vs PSV Flensburg 3
DESCRIPTION;LANGUAGE=de;ENCODING=QUOTED-PRINTABLE:25:17\, 25:22\, 25:13
END:VEVENT
BEGIN:VEVENT
UID:event3
DTSTAMP:20260424T100254Z
DTSTART:20260323T190000Z
DTEND:20260323T210000Z
LOCATION;LANGUAGE=de;ENCODING=QUOTED-PRINTABLE:Schleswiger Str. 16-18\, Mittelangeln - Satrup
SUMMARY:Punktspiel TSV Satrup 1 vs PSV Flensburg 3
DESCRIPTION;LANGUAGE=de;ENCODING=QUOTED-PRINTABLE:27:25\, 25:9\, 18:25
END:VEVENT
BEGIN:VEVENT
UID:event4
DTSTAMP:20260424T100254Z
DTSTART:20260216T190000Z
DTEND:20260216T210000Z
LOCATION;LANGUAGE=de;ENCODING=QUOTED-PRINTABLE:Bohlberg \, Flensburg
SUMMARY:Punktspiel TSB Flensburg vs PSV Flensburg 3
DESCRIPTION;LANGUAGE=de;ENCODING=QUOTED-PRINTABLE:25:19\, 25:17\, 25:20
END:VEVENT
BEGIN:VEVENT
UID:event5
DTSTAMP:20260424T100254Z
DTSTART:20260303T190000Z
DTEND:20260303T210000Z
LOCATION;LANGUAGE=de;ENCODING=QUOTED-PRINTABLE:Lütke-Namens-Weg\, Flensburg
SUMMARY:Punktspiel PSV Flensburg 3 vs TSV Süderbrarup
DESCRIPTION;LANGUAGE=de;ENCODING=QUOTED-PRINTABLE:15:25\, 16:25\, 19:25
END:VEVENT
BEGIN:VEVENT
UID:event6
DTSTAMP:20260424T100254Z
DTSTART:20260317T190000Z
DTEND:20260317T210000Z
LOCATION;LANGUAGE=de;ENCODING=QUOTED-PRINTABLE:Holmberg  20\, Harrislee 
SUMMARY:Punktspiel TSV Nord Harrislee vs PSV Flensburg 3
DESCRIPTION;LANGUAGE=de;ENCODING=QUOTED-PRINTABLE:19:25\, 17:25\, 25:21
END:VEVENT
BEGIN:VEVENT
UID:event7
DTSTAMP:20260424T100254Z
DTSTART:20260421T180000Z
DTEND:20260421T200000Z
LOCATION;LANGUAGE=de;ENCODING=QUOTED-PRINTABLE:Lütke-Namens-Weg\, Flensburg
SUMMARY:Punktspiel PSV Flensburg 3 vs PSV Flensburg 1
DESCRIPTION;LANGUAGE=de;ENCODING=QUOTED-PRINTABLE:19:25\, 23:25\, 17:25
END:VEVENT
BEGIN:VEVENT
UID:event8
DTSTAMP:20260424T100254Z
DTSTART:20260505T180000Z
DTEND:20260505T200000Z
LOCATION;LANGUAGE=de;ENCODING=QUOTED-PRINTABLE:Lütke-Namens-Weg\, Flensburg
SUMMARY:Punktspiel PSV Flensburg 3 vs TSV Satrup 1
DESCRIPTION;LANGUAGE=de;ENCODING=QUOTED-PRINTABLE:Altes Gymnasium\nLütke-Namens-Weg\n24937 Flensburg\n\n\nÜbersicht https://www.ktvnord.volleyball-freizeit.de/schedule/overview/1091
END:VEVENT
END:VCALENDAR